BEGIN:VCALENDAR
VERSION:2.0
PRODID:-//hacksw/handcal//NONSGML v1.0//EN
BEGIN:VEVENT
DTSTAMP:20260730T160000Z
DTSTART:20260730T160000Z
DTEND:20260730T190000Z
LOCATION:Landgasthaus Krevet, Steinkaul 3, Düsseldorf, 40589, Deutschland
SUMMARY:Sommerstammtisch
END:VEVENT
END:VCALENDAR
